BEGIN:VCALENDAR
VERSION:2.0
PRODID:spatie/icalendar-generator
DESCRIPTION:Events from Real Talk
X-WR-CALDESC:Events from Real Talk
REFRESH-INTERVAL;VALUE=DURATION:PT1440M
X-PUBLISHED-TTL:PT1440M
BEGIN:VTIMEZONE
TZID:Etc/GMT+0
BEGIN:STANDARD
DTSTART:20250802T090000Z
TZOFFSETFROM:+0000
TZOFFSETTO:+0000
END:STANDARD
END:VTIMEZONE
BEGIN:VTIMEZONE
TZID:UTC
BEGIN:STANDARD
DTSTART:20250727T024418Z
TZOFFSETFROM:+0000
TZOFFSETTO:+0000
END:STANDARD
END:VTIMEZONE
BEGIN:VEVENT
UID:2-2
DTSTAMP:20260423T024418Z
SUMMARY:Testing
LOCATION:
ORGANIZER;CN=Jeanette Delembre:MAILTO:info@homoeopathie-tv.com
RRULE:FREQ=WEEKLY;UNTIL=20270428T000000Z
DTSTART;TZID=Etc/GMT+0:20260429T090000
DTEND;TZID=Etc/GMT+0:20260429T102500
X-ALT-DESC;FMTTYPE=TEXT/HTML:Tellus ultricies enim feugiat habitant incepto
 s laoreet rhoncus mi mollis elementum porta vivamus dignissim etiam eget u
 t cras sem congue tempor neque dui montes lobortis consequat sapien nascet
 ur quam eleifend dictumst tincidunt augue ullamcorper est proin tortor sus
 cipit urna lorem morbi facilisis consectetuer netus magna convallis fringi
 lla nostra efficitur ante sollicitudin penatibus pretium pharetra eros
CATEGORIES:Youtube
URL;VALUE=URI:https://realtalk.forum/mc-events/testing/?mc_id=2
METHOD:PUBLISH
END:VEVENT
END:VCALENDAR